BEGIN:VCALENDAR
VERSION:2.0
PRODID:Events Booking
BEGIN:VEVENT
UID:69e738ca86ed2
SUMMARY:The Fantastics invite Boney FIELDS @ Backstage Montrouge (92)
DESCRIPTION:
LOCATION:2 Avenue Léon Gambetta\, Montrouge\, 92120 Ile-de-France\, France
DTSTART:20240412T210000Z
DTSTAMP:20240112T140932Z
ORGANIZER;CN=https://boneyfields.com/:MAILTO:contact@boneyfields.com
GEO:48.81352;2.325357
X-APPLE-STRUCTURED-LOCATION;VALUE=URI;X-ADDRESS=2 Avenue Léon Gambetta\, M
 ontrouge\, 92120 Ile-de-France\, France;X-APPLE-RADIUS=72;X-TITLE=The Back
  Stage:48.81352;2.325357
END:VEVENT
END:VCALENDAR