BEGIN:VCALENDAR
VERSION:2.0
PRODID:Events Booking
BEGIN:VEVENT
UID:69e4d0eee98fe
SUMMARY:Boney Fields & Private Party @ PRIVATE PARTY Paris\, France ( 08 )
DESCRIPTION:
DTSTART:20240328T000000Z
DTSTAMP:20240325T164118Z
ORGANIZER;CN=https://boneyfields.com/:MAILTO:contact@boneyfields.com
END:VEVENT
END:VCALENDAR