BEGIN:VCALENDAR
VERSION:2.0
PRODID:Events Booking
BEGIN:VEVENT
UID:69e738e74d646
SUMMARY:Boney Fields Special Guest - Private Party - Pavillon Gabriel - Par
 is 8e
DESCRIPTION:
LOCATION:5\, Avenue Gabriel\, Paris\, 75008 Ile-de-France\, France
DTSTART:20240406T000000Z
DTSTAMP:20240401T105236Z
ORGANIZER;CN=https://boneyfields.com/:MAILTO:contact@boneyfields.com
GEO:48.867767;2.317872
X-APPLE-STRUCTURED-LOCATION;VALUE=URI;X-ADDRESS=5\, Avenue Gabriel\, Paris\
 , 75008 Ile-de-France\, France;X-APPLE-RADIUS=72;X-TITLE= Pavillon Gabriel
  - Paris 8e:48.867767;2.317872
END:VEVENT
END:VCALENDAR