BEGIN:VCALENDAR
VERSION:2.0
PRODID:Events Booking
BEGIN:VEVENT
UID:69e739bf610ae
SUMMARY:Boney Fields & the BFB @ L'Odéon\, Tremblay-en-France (France - 93
 ) 
DESCRIPTION:
LOCATION:1\, Place du bicentenaire de la Révolution française\, Tremblay-
 en-France\, 93290 Ile-de-France\, France
DTSTART:20250201T000000Z
DTSTAMP:20240404T220204Z
ORGANIZER;CN=https://boneyfields.com/:MAILTO:contact@boneyfields.com
GEO:48.942992;2.570439
X-APPLE-STRUCTURED-LOCATION;VALUE=URI;X-ADDRESS=1\, Place du bicentenaire d
 e la Révolution française\, Tremblay-en-France\, 93290 Ile-de-France\, F
 rance;X-APPLE-RADIUS=72;X-TITLE=L'ODEON :48.942992;2.570439
END:VEVENT
END:VCALENDAR