BEGIN:VCALENDAR
VERSION:2.0
PRODID:Events Booking
BEGIN:VEVENT
UID:69e73964f252b
SUMMARY:Tonky Blues Band invites Boney Fields @ Centro Cultural el Torito\,
  Madrid (Spain)
DESCRIPTION:
LOCATION:Avenida de Moratalaz\, Madrid\, 28030 Community of Madrid\, Spain
DTSTART:20241128T000000Z
DTSTAMP:20241114T185019Z
ORGANIZER;CN=https://boneyfields.com/:MAILTO:contact@boneyfields.com
GEO:40.406069;-3.646731
X-APPLE-STRUCTURED-LOCATION;VALUE=URI;X-ADDRESS=Avenida de Moratalaz\, Madr
 id\, 28030 Community of Madrid\, Spain;X-APPLE-RADIUS=72;X-TITLE=Centro Cu
 ltural el Torito:40.406069;-3.646731
END:VEVENT
END:VCALENDAR