BEGIN:VCALENDAR
VERSION:2.0
PRODID:Events Booking
BEGIN:VEVENT
UID:69e7394785842
SUMMARY:Tonky Blues Band invites Boney Fields @ By the Way\, Madrid (Spain)
DESCRIPTION:
LOCATION:Calle de Josefa Valcárcel\, Madrid\, 28027 Community of Madrid\, 
 Spain
DTSTART:20241130T000000Z
DTSTAMP:20241114T194259Z
ORGANIZER;CN=https://boneyfields.com/:MAILTO:contact@boneyfields.com
GEO:40.448097;-3.648001
X-APPLE-STRUCTURED-LOCATION;VALUE=URI;X-ADDRESS=Calle de Josefa Valcárcel\
 , Madrid\, 28027 Community of Madrid\, Spain;X-APPLE-RADIUS=72;X-TITLE=By 
 The Way:40.448097;-3.648001
END:VEVENT
END:VCALENDAR