BEGIN:VCALENDAR
VERSION:2.0
PRODID:Events Booking
BEGIN:VEVENT
UID:69e739adad838
SUMMARY:Boney Fields & the BFB @ Le Bateau du Rhin\, Strasbourg (France\, 6
 7)
DESCRIPTION:
LOCATION:20 Rue du Port du Rhin  67000 Strasbourg  France
DTSTART:20250426T194500Z
DTEND:20250426T234500Z
DTSTAMP:20240319T195056Z
ORGANIZER;CN=https://boneyfields.com/:MAILTO:contact@boneyfields.com
END:VEVENT
END:VCALENDAR