BEGIN:VCALENDAR
VERSION:2.0
PRODID:Events Booking
BEGIN:VEVENT
UID:69e7388a97ba4
SUMMARY:Boney Fields  @ Chicago\, Illinois\,  USA (TBA)
DESCRIPTION:
DTSTART:20250513T190000Z
DTEND:20250528T000000Z
DTSTAMP:20240319T195056Z
ORGANIZER;CN=https://boneyfields.com/:MAILTO:contact@boneyfields.com
END:VEVENT
END:VCALENDAR