BEGIN:VCALENDAR
VERSION:2.0
PRODID:Events Booking
BEGIN:VEVENT
UID:69e74f2d2dd8b
SUMMARY:Boney Fields @ Blue Frog Studios\, White Rock (BC - Canada)
DESCRIPTION:Boney Fields & the BFB @  Musica Fulcosa (France - 78112
LOCATION:1328  Johnston Road\, White Rock\, V4B 3Z3 British Columbia\, Cana
 da
DTSTART:20260606T000000Z
DTSTAMP:20260224T103403Z
ORGANIZER;CN=https://boneyfields.com/:MAILTO:contact@boneyfields.com
GEO:49.025121;-122.801392
X-APPLE-STRUCTURED-LOCATION;VALUE=URI;X-ADDRESS=1328  Johnston Road\, White
  Rock\, V4B 3Z3 British Columbia\, Canada;X-APPLE-RADIUS=72;X-TITLE=Blue F
 rog Studios:49.025121;-122.801392
END:VEVENT
END:VCALENDAR